BEGIN:VCALENDAR
VERSION:2.0
PRODID:-//Yoga, Running, Cours de cuisine, Bien être à Fontainebleau - ECPv6.15.13.1//NONSGML v1.0//EN
CALSCALE:GREGORIAN
METHOD:PUBLISH
X-WR-CALNAME:Yoga, Running, Cours de cuisine, Bien être à Fontainebleau
X-ORIGINAL-URL:https://le-monde-dalizee.fr
X-WR-CALDESC:Évènements pour Yoga, Running, Cours de cuisine, Bien être à Fontainebleau
REFRESH-INTERVAL;VALUE=DURATION:PT1H
X-Robots-Tag:noindex
X-PUBLISHED-TTL:PT1H
BEGIN:VTIMEZONE
TZID:Europe/Paris
BEGIN:DAYLIGHT
TZOFFSETFROM:+0100
TZOFFSETTO:+0200
TZNAME:CEST
DTSTART:20240331T010000
END:DAYLIGHT
BEGIN:STANDARD
TZOFFSETFROM:+0200
TZOFFSETTO:+0100
TZNAME:CET
DTSTART:20241027T010000
END:STANDARD
BEGIN:DAYLIGHT
TZOFFSETFROM:+0100
TZOFFSETTO:+0200
TZNAME:CEST
DTSTART:20250330T010000
END:DAYLIGHT
BEGIN:STANDARD
TZOFFSETFROM:+0200
TZOFFSETTO:+0100
TZNAME:CET
DTSTART:20251026T010000
END:STANDARD
BEGIN:DAYLIGHT
TZOFFSETFROM:+0100
TZOFFSETTO:+0200
TZNAME:CEST
DTSTART:20260329T010000
END:DAYLIGHT
BEGIN:STANDARD
TZOFFSETFROM:+0200
TZOFFSETTO:+0100
TZNAME:CET
DTSTART:20261025T010000
END:STANDARD
END:VTIMEZONE
BEGIN:VEVENT
DTSTART;TZID=Europe/Paris:20250525T103000
DTEND;TZID=Europe/Paris:20250525T140000
DTSTAMP:20260422T115133
CREATED:20250429T085242Z
LAST-MODIFIED:20250429T090514Z
UID:3191-1748169000-1748181600@le-monde-dalizee.fr
SUMMARY:Yoga Brunch
DESCRIPTION:Une Parenthèse Bien-Être pour célébrer la fêtes des mères\nYoga Brunch\, spécial fête des mères\, un cadeau original pour faire plaisir !\nDimanche 25 mai à 10H30\nVenez seul.e ou accompagné.e de votre maman et plongez dans une douce expérience revitalisante.\nVivez une séance de Yoga avec Kamalâ. Yoga accessible à tou.te.s\, aucun pré-requis demandé.\nSavourez un brunch végétarien (à volonté). Hors boissons.\nUne matinée 100% Joie et Légèreté !\n\n\n\nTarifs :\n10H30_Package yoga + brunch : 35€.\n10H30_Séance de yoga seule (1H15) : 12€.\n12H_Brunch seul : 25€\n\nInformations : \n07 77 79 70 17\ncontact@le-monde-dalizee.fr\n\n\nConditions :\nRéservation obligatoire : Paiement acompte 20€. Acompte non remboursable.\nArrivez en tenue 15 minutes avant la séance.\nApportez votre tapis de yoga\, une petite couverture pour la relaxation et votre gourde.\n\n\nAdresse : votre nouvel hôtel à St Girons\, 3 chemin de Beauregard (à coté de l’Auberge d’Antan).\n\nRéservez dès maintenant pour une expérience relaxante.\n\n\nCours de Yoga Ariège \n\n\nTélécharger le flyer : YogaBrunch2505
URL:https://le-monde-dalizee.fr/evenement/yoga-brunch/
LOCATION:Saint Girons\, Saint Girons (09)\, France
ATTACH;FMTTYPE=image/jpeg:https://le-monde-dalizee.fr/wp-content/uploads/2025/04/YogaBrunch2505_StGirons-1.jpg
END:VEVENT
END:VCALENDAR