BEGIN:VCALENDAR
VERSION:2.0
PRODID:-//Yoga, Running, Cours de cuisine, Bien être à Fontainebleau - ECPv6.15.13.1//NONSGML v1.0//EN
CALSCALE:GREGORIAN
METHOD:PUBLISH
X-ORIGINAL-URL:https://le-monde-dalizee.fr
X-WR-CALDESC:Évènements pour Yoga, Running, Cours de cuisine, Bien être à Fontainebleau
REFRESH-INTERVAL;VALUE=DURATION:PT1H
X-Robots-Tag:noindex
X-PUBLISHED-TTL:PT1H
BEGIN:VTIMEZONE
TZID:Europe/Paris
BEGIN:DAYLIGHT
TZOFFSETFROM:+0100
TZOFFSETTO:+0200
TZNAME:CEST
DTSTART:20250330T010000
END:DAYLIGHT
BEGIN:STANDARD
TZOFFSETFROM:+0200
TZOFFSETTO:+0100
TZNAME:CET
DTSTART:20251026T010000
END:STANDARD
BEGIN:DAYLIGHT
TZOFFSETFROM:+0100
TZOFFSETTO:+0200
TZNAME:CEST
DTSTART:20260329T010000
END:DAYLIGHT
BEGIN:STANDARD
TZOFFSETFROM:+0200
TZOFFSETTO:+0100
TZNAME:CET
DTSTART:20261025T010000
END:STANDARD
BEGIN:DAYLIGHT
TZOFFSETFROM:+0100
TZOFFSETTO:+0200
TZNAME:CEST
DTSTART:20270328T010000
END:DAYLIGHT
BEGIN:STANDARD
TZOFFSETFROM:+0200
TZOFFSETTO:+0100
TZNAME:CET
DTSTART:20271031T010000
END:STANDARD
END:VTIMEZONE
BEGIN:VEVENT
DTSTART;TZID=Europe/Paris:20260530T080000
DTEND;TZID=Europe/Paris:20260531T170000
DTSTAMP:20260421T170913
CREATED:20250810T083251Z
LAST-MODIFIED:20260312T152326Z
UID:3219-1780128000-1780246800@le-monde-dalizee.fr
SUMMARY:Yoga & Alimentation Vivante - Edition Mère/Fille (spéciale fêtes des mamans 🧡)
DESCRIPTION:Venez plonger au Cœur du Vivant !\n\nCe stage proposé par Uma et Kamalā est une invitation à vous ressourcer et vous ré-énergiser au cœur des Pyrénées Audoises. Vous ferez le plein d’énergie grâce aux bienfaits combinés du Yoga et de l’Alimentation Vivante. \n\n\nVenez vous reconnecter à vos sens au travers de l’exploration du Vivant\, grâce à la merveilleuse synergie entre le Yoga\, l’Alimentation Vivante et la connexion à la Terre Mère. \nA travers des pratiques de yoga et de méditation proposées par Uma\, vous serez invité-e à plonger dans votre espace intérieur et à vous connecter à vos sensations ainsi que tout ce qui est vivant en vous dans l’ici et maintenant. \nGrâce à Kamalā\, vous découvrirez les bienfaits de l’alimentation vivante. Vous participerez à des ateliers de CRU-sine\, vous permettant de préparer des repas gourmands et plein de vitalité ! \n\n*Tarif EARLY BIRD jusqu’au 01/04/26 : 220€ au lieu de 245€.\n\nVOUS AIMEREZ :_ Introduction à l’alimentation vivante & ses différentes techniques de transformation (déshydratation\, germination\, fermentation…)_ Les ateliers Crusine avec Kamalâ (préparation des 2 déjeuners & autres gourmandises)_ 1 atelier lactofermentation_ 2 pratiques de Yoga par jour avec Uma_ Le lieu\, son énergie pour se ressourcer \n\nPROGRAMMEVENDREDI \nAccueil possible à partir de 18H30. Rencontre avec les intervenantes\, Uma & Kamalâ. Installation dans votre chambre.\nDîner partager avec le groupe. Chacun.e apporte un petit plats salé et sucré à partager avec le groupe.\nNuitée : au gîte sur place (en sus)\nSAMEDIPetit-déjeuner : Gestion libre (frigo & cuisine disponibles sur place)\n8h45 : Accueil9h – 10H30 : Méditation et Yoga dynamique10H30 :– Cours théorique : découverte de différents processus de transformation en alimentation vivante : Germination\, lactofermentation\, déshydratation…– Préparation du Brunch sous forme d’atelier de CRUsine\, mise en pratique des différentes techniques\, apprendre à développer sa créativité en cuisine végétale.\n\n \n\n13H30 : Déjeuner 100% CRU (inclus)\nTemps libre.15H00 – 17H00 : Atelier CRUsine. Réalisation d’un gâteau végétal cru\, sans cuisson.\n\n\n17H30-19H : Yoga Doux et Restauratif\nDiner : Gestion libre (frigo & cuisine disponibles sur place)\nDIMANCHEPetit-déjeuner : Gestion libre (frigo & cuisine disponibles sur place)\n8h45 : Accueil9H – 10H30 : Méditation et Yoga dynamique10H30-12H30 : Atelier Lactofermentation. Un atelier pour redécouvrir l’art de la fermentation et de la conservation\, source naturelle de probiotiques. Kamalâ vous apportera des conseils fiables et vous apprendra les règles d’hygiène à respecter. Vous réaliserez un bocal de légumes ou une boisson fermentée que vous rapporterez chez vous.\nVous aurez également la chance de pouvoir profiter d’une dégustation de produits fermentés de sa marque KAMA.LIFE.Sans oublier le partages de recettes pour consommer les légumes lactofermentés au quotidien.\n\n  \n\n13H00 : Déjeuner 100% CRU (inclus)\nTemps libre.\n15H – 16H30 : Yoga restauratif16H30 – 17H : Cercle de clôture17H : Fin du stage\n\nLIEU DE STAGE* :\nGîte La Font Blanche\, 11340 Belvis (Aude)\n\nTARIF : 245€\nTARIF EARLY BIRD (jusqu’au 01/04/26) : 220€/personne\nAcompte de 100€ par chèque à envoyer pour réserver votre place. Acompte non remboursable pour une annulation à moins de 30 jours. Consulter les conditions de vente et d’annulation de Le Monde d’Alizée.\n\nHEBERGEMENT & REPAS\nLe tarif ne comprend pas les dîners du vendredi et samedi soir ni les petit-déjeuner du samedi & dimanche matin\, ni votre hébergement.Hébergement possible sur place au gîte\n– 4 jolies chambres pour 2 personnes (lits séparés) à 35€ la nuitée/pers ou 60€ les 2 nuits.\nIl est également possible de poser sa tente ou son camion avec accès aux sanitaires et à la cuisine pour 15€ la nuitée.\nCONTACTS\n\n\nUMA : umashaktiyoga@gmail.com\nFacebook : Uma Shakti Yoga\nInfo : 30-31 mai : Week-end « Vitalité » Yoga & CRUsine à Belvis (Aude) – Uma Shakti Yoga\n\n\n\nKAMALA : contact@le-monde-dalizee.fr\nInsta/Facebook : @lemondedalizee / @kamalife_fermentation
URL:https://le-monde-dalizee.fr/evenement/yoga-alimentation-vivante-edition-mere-fille-speciale-fetes-des-mamans-%f0%9f%a7%a1/
ATTACH;FMTTYPE=image/jpeg:https://le-monde-dalizee.fr/wp-content/uploads/2025/04/WhatsApp-Image-2025-04-20-a-16.46.10_cb68b8a4.jpg
END:VEVENT
END:VCALENDAR